BEGIN:VCALENDAR
VERSION:2.0
PRODID:spatie/icalendar-generator
DESCRIPTION:Veranstaltungen von Magdeburger Eisenbahnfreunde e.V.
X-WR-CALDESC:Veranstaltungen von Magdeburger Eisenbahnfreunde e.V.
REFRESH-INTERVAL;VALUE=DURATION:PT1440M
X-PUBLISHED-TTL:PT1440M
BEGIN:VTIMEZONE
TZID:Etc/GMT-1
BEGIN:STANDARD
DTSTART:20250610T100000Z
TZOFFSETFROM:+0100
TZOFFSETTO:+0100
END:STANDARD
END:VTIMEZONE
BEGIN:VTIMEZONE
TZID:UTC
BEGIN:STANDARD
DTSTART:20250726T181647Z
TZOFFSETFROM:+0000
TZOFFSETTO:+0000
END:STANDARD
END:VTIMEZONE
BEGIN:VEVENT
UID:213-148
DTSTAMP:20260422T181647Z
SUMMARY:Tauschmarkt in der Tanzschule Diefert
LOCATION:
ORGANIZER;CN=MEBF e.V.:MAILTO:m.endig@mebf.de
DTSTART;TZID=Etc/GMT-1:20260307T100000
DTEND;TZID=Etc/GMT-1:20260307T140000
X-ALT-DESC;FMTTYPE=TEXT/HTML:
CATEGORIES:Veranstaltung
URL;VALUE=URI:https://www.mebf.de/my-calendar/?mc_id=213&#038;vcal=213
METHOD:PUBLISH
END:VEVENT
END:VCALENDAR