BEGIN:VCALENDAR
VERSION:2.0
PRODID:spatie/icalendar-generator
DESCRIPTION:Veranstaltungen von Magdeburger Eisenbahnfreunde e.V.
X-WR-CALDESC:Veranstaltungen von Magdeburger Eisenbahnfreunde e.V.
REFRESH-INTERVAL;VALUE=DURATION:PT1440M
X-PUBLISHED-TTL:PT1440M
BEGIN:VTIMEZONE
TZID:Etc/GMT-1
BEGIN:STANDARD
DTSTART:20251202T000000Z
TZOFFSETFROM:+0100
TZOFFSETTO:+0100
END:STANDARD
END:VTIMEZONE
BEGIN:VTIMEZONE
TZID:UTC
BEGIN:STANDARD
DTSTART:20250726T200309Z
TZOFFSETFROM:+0000
TZOFFSETTO:+0000
END:STANDARD
END:VTIMEZONE
BEGIN:VEVENT
UID:215-150
DTSTAMP:20260422T200309Z
SUMMARY:Familienfest mit historischen Eisenbahnen\, Schiffen und Kranen
LOCATION:
ORGANIZER;CN=MEBF e.V.:MAILTO:m.endig@mebf.de
DTSTART;TZID=Etc/GMT-1;VALUE=DATE:20260829
DTEND;TZID=Etc/GMT-1;VALUE=DATE:20260831
X-ALT-DESC;FMTTYPE=TEXT/HTML:29.08.2026     10:00-18:00 Uhr 30.08.2026 
     10:00-17:00 Uhr
CATEGORIES:Veranstaltung
URL;VALUE=URI:https://www.mebf.de/my-calendar/?mc_id=215&#038;vcal=215
METHOD:PUBLISH
END:VEVENT
END:VCALENDAR